BEGIN:VCALENDAR
VERSION:2.0
PRODID:-//DJK Bad S&auml;ckingen Handball - ECPv6.6.3//NONSGML v1.0//EN
CALSCALE:GREGORIAN
METHOD:PUBLISH
X-ORIGINAL-URL:https://www.handball-in-bad-saeckingen.de
X-WR-CALDESC:Veranstaltungen für DJK Bad S&auml;ckingen Handball
REFRESH-INTERVAL;VALUE=DURATION:PT1H
X-Robots-Tag:noindex
X-PUBLISHED-TTL:PT1H
BEGIN:VTIMEZONE
TZID:Europe/Berlin
BEGIN:DAYLIGHT
TZOFFSETFROM:+0100
TZOFFSETTO:+0200
TZNAME:CEST
DTSTART:20250330T010000
END:DAYLIGHT
BEGIN:STANDARD
TZOFFSETFROM:+0200
TZOFFSETTO:+0100
TZNAME:CET
DTSTART:20251026T010000
END:STANDARD
END:VTIMEZONE
BEGIN:VEVENT
DTSTART;TZID=Europe/Berlin:20250322T170000
DTEND;TZID=Europe/Berlin:20250322T190000
DTSTAMP:20260420T143741
CREATED:20250224T160705Z
LAST-MODIFIED:20250224T160705Z
UID:3425-1742662800-1742670000@www.handball-in-bad-saeckingen.de
SUMMARY:Stadtreinigung 2025
DESCRIPTION:Gesamtstadtreinigung organisiert von der Stadt Bad Säckingen \nDie DJK ist verantwortlich für die Reinigung des Badmattenparks
URL:https://www.handball-in-bad-saeckingen.de/events/stadtreinigung-2025/
LOCATION:Badmattenhalle / Bad Säckingen
END:VEVENT
END:VCALENDAR