BEGIN:VCALENDAR
VERSION:2.0
PRODID:-//DJK Bad S&auml;ckingen Handball - ECPv6.6.3//NONSGML v1.0//EN
CALSCALE:GREGORIAN
METHOD:PUBLISH
X-ORIGINAL-URL:https://www.handball-in-bad-saeckingen.de
X-WR-CALDESC:Veranstaltungen für DJK Bad S&auml;ckingen Handball
REFRESH-INTERVAL;VALUE=DURATION:PT1H
X-Robots-Tag:noindex
X-PUBLISHED-TTL:PT1H
BEGIN:VTIMEZONE
TZID:Europe/Berlin
BEGIN:DAYLIGHT
TZOFFSETFROM:+0100
TZOFFSETTO:+0200
TZNAME:CEST
DTSTART:20260329T010000
END:DAYLIGHT
BEGIN:STANDARD
TZOFFSETFROM:+0200
TZOFFSETTO:+0100
TZNAME:CET
DTSTART:20261025T010000
END:STANDARD
END:VTIMEZONE
BEGIN:VEVENT
DTSTART;TZID=Europe/Berlin:20260501T100000
DTEND;TZID=Europe/Berlin:20260501T170000
DTSTAMP:20260419T150029
CREATED:20240911T131244Z
LAST-MODIFIED:20260410T180001Z
UID:2671-1777629600-1777654800@www.handball-in-bad-saeckingen.de
SUMMARY:1. Mai Wanderung 2026
DESCRIPTION:🟢⚪ Packt den Rucksack\, schnürt die Schuhe!!! Wir wandern am 1. Mai 🥾 \nWas Euch erwartet: \n– Treffpunkt 10:00 Uhr an der Badmattenhalle\n– 10:35 Uhr Fahrt mit dem öffentlichen Bus zum Klausenhof in Großherrischwand\n– Ab dort: schöne Wanderung auf dem Murgtalpfad Richtung Energiemuseum\, Hottingen\n– Im Energiemuseum kurze fachkundige Führung\n– 16:03 Uhr Rückfahrt mit dem öffentlichen Bus Hottingen–Laufenburg (Umsteigen) – Bad Säckingen \nVerpflegung: Rucksackverpflegung mitnehmen\nKosten: Busfahrt tragt jeder selbst\nAnmeldung: Ist nicht erforderlich; kommt einfach mit \nWir freuen uns auf einen gemeinsamen\, schönen Tag!
URL:https://www.handball-in-bad-saeckingen.de/events/djk-maiwanderung_2026/
LOCATION:Badmattenhalle / Bad Säckingen
CATEGORIES:Vereinsfeier
ATTACH;FMTTYPE=image/jpeg:https://www.handball-in-bad-saeckingen.de/wp-content/uploads/2024/09/Maiwanderung_2026-e1775844144916.jpeg
END:VEVENT
END:VCALENDAR