BEGIN:VCALENDAR
VERSION:2.0
PRODID:-//DJK Bad S&auml;ckingen Handball - ECPv6.6.3//NONSGML v1.0//EN
CALSCALE:GREGORIAN
METHOD:PUBLISH
X-WR-CALNAME:DJK Bad S&auml;ckingen Handball
X-ORIGINAL-URL:https://www.handball-in-bad-saeckingen.de
X-WR-CALDESC:Veranstaltungen für DJK Bad S&auml;ckingen Handball
REFRESH-INTERVAL;VALUE=DURATION:PT1H
X-Robots-Tag:noindex
X-PUBLISHED-TTL:PT1H
BEGIN:VTIMEZONE
TZID:Europe/Berlin
BEGIN:DAYLIGHT
TZOFFSETFROM:+0100
TZOFFSETTO:+0200
TZNAME:CEST
DTSTART:20260329T010000
END:DAYLIGHT
BEGIN:STANDARD
TZOFFSETFROM:+0200
TZOFFSETTO:+0100
TZNAME:CET
DTSTART:20261025T010000
END:STANDARD
END:VTIMEZONE
BEGIN:VEVENT
DTSTART;TZID=Europe/Berlin:20261026T094500
DTEND;TZID=Europe/Berlin:20261030T153000
DTSTAMP:20260419T212512
CREATED:20250501T181745Z
LAST-MODIFIED:20260323T203332Z
UID:3472-1793007900-1793374200@www.handball-in-bad-saeckingen.de
SUMMARY:Handballcamp 2026
DESCRIPTION:Handballcamp für Kinder und Jugendliche \nWeitere Infos und Anmeldungen folgen! \n 
URL:https://www.handball-in-bad-saeckingen.de/events/handballcamp-2025/
CATEGORIES:Sportveranstaltung
END:VEVENT
END:VCALENDAR