BEGIN:VCALENDAR
VERSION:2.0
PRODID:-//DJK Bad S&auml;ckingen Handball - ECPv6.6.3//NONSGML v1.0//EN
CALSCALE:GREGORIAN
METHOD:PUBLISH
X-WR-CALNAME:DJK Bad S&auml;ckingen Handball
X-ORIGINAL-URL:https://www.handball-in-bad-saeckingen.de
X-WR-CALDESC:Veranstaltungen für DJK Bad S&auml;ckingen Handball
REFRESH-INTERVAL;VALUE=DURATION:PT1H
X-Robots-Tag:noindex
X-PUBLISHED-TTL:PT1H
BEGIN:VTIMEZONE
TZID:Europe/Berlin
BEGIN:DAYLIGHT
TZOFFSETFROM:+0100
TZOFFSETTO:+0200
TZNAME:CEST
DTSTART:20240331T010000
END:DAYLIGHT
BEGIN:STANDARD
TZOFFSETFROM:+0200
TZOFFSETTO:+0100
TZNAME:CET
DTSTART:20241027T010000
END:STANDARD
END:VTIMEZONE
BEGIN:VEVENT
DTSTART;TZID=Europe/Berlin:20241206T050000
DTEND;TZID=Europe/Berlin:20241206T113000
DTSTAMP:20260420T162134
CREATED:20240911T141948Z
LAST-MODIFIED:20241030T154608Z
UID:2680-1733461200-1733484600@www.handball-in-bad-saeckingen.de
SUMMARY:DJK-Weihnachtsfeier 2024
DESCRIPTION:
URL:https://www.handball-in-bad-saeckingen.de/events/djk-weihnachtsfeier-2024/
LOCATION:Pfarsaal Heilig-Kreuz Kirche\, Bad Säckingen\, 79713\, Germany
ATTACH;FMTTYPE=image/jpeg:https://www.handball-in-bad-saeckingen.de/wp-content/uploads/2024/09/DJK-Weihnachtsfeier-2024.jpg
END:VEVENT
END:VCALENDAR